BEGIN:VCALENDAR
VERSION:2.0
PRODID:-//wp-events-plugin.com//7.2.3.1//EN
TZID:America/Chicago
X-WR-TIMEZONE:America/Chicago
BEGIN:VEVENT
UID:69@dontspookthehorse.com
DTSTART;TZID=America/Chicago:20260131T200000
DTEND;TZID=America/Chicago:20260131T230000
DTSTAMP:20260113T062047Z
URL:https://dontspookthehorse.com/shows/dont-spook-the-horse-at-bernells/
SUMMARY:Don't Spook the Horse at Bernell's
DESCRIPTION:Our regular haunt at the Red Rooster is under new management an
 d renamed Bernell's. Looking forward to giving it the ol' horsie treatment
 !\n\n$10 cover\n\nBernell's on Facebook
LOCATION:Bernell's\, 2513 Seiferth Rd\, Madison\, WI\, 53716\, United State
 s
X-APPLE-STRUCTURED-LOCATION;VALUE=URI;X-ADDRESS=2513 Seiferth Rd\, Madison\
 , WI\, 53716\, United States;X-APPLE-RADIUS=100;X-TITLE=Bernell's:geo:0,0
END:VEVENT
BEGIN:VTIMEZONE
TZID:America/Chicago
X-LIC-LOCATION:America/Chicago
BEGIN:STANDARD
DTSTART:20251102T010000
TZOFFSETFROM:-0500
TZOFFSETTO:-0600
TZNAME:CST
END:STANDARD
END:VTIMEZONE
END:VCALENDAR