BEGIN:VCALENDAR
VERSION:2.0
PRODID:-//wp-events-plugin.com//7.2.3.1//EN
TZID:America/Chicago
X-WR-TIMEZONE:America/Chicago
BEGIN:VEVENT
UID:66@dontspookthehorse.com
DTSTART;TZID=America/Chicago:20250911T170000
DTEND;TZID=America/Chicago:20250911T200000
DTSTAMP:20250911T004531Z
URL:https://dontspookthehorse.com/shows/dont-spook-the-horse-at-octopi-bre
 wing-4/
SUMMARY:Don't Spook the Horse at Octopi Brewing
DESCRIPTION:Happy to be coming back to Octopi in Waunakee! We had a great t
 ime there earlier this summer and look forward to rocking the place again.
 \n\nAs this will be an outdoor event\, if the weather looks uncooperative 
 please check back here or with the venue for updates before traveling.\n\n
 drinkoctopi.com\nfacebook.com/DrinkOctopi
ATTACH;FMTTYPE=image/jpeg:https://dontspookthehorse.com/wp-content/uploads
 /AB-Breweries-Octopi-Brewing-Exterior-1-Banner.webp
LOCATION:Octopi Brewing\, 1131 Uniek Dr\, Waunakee\, WI\, 53597-8947\, Unit
 ed States
X-APPLE-STRUCTURED-LOCATION;VALUE=URI;X-ADDRESS=1131 Uniek Dr\, Waunakee\, 
 WI\, 53597-8947\, United States;X-APPLE-RADIUS=100;X-TITLE=Octopi Brewing:
 geo:0,0
END:VEVENT
BEGIN:VTIMEZONE
TZID:America/Chicago
X-LIC-LOCATION:America/Chicago
BEGIN:DAYLIGHT
DTSTART:20250309T030000
TZOFFSETFROM:-0600
TZOFFSETTO:-0500
TZNAME:CDT
END:DAYLIGHT
END:VTIMEZONE
END:VCALENDAR