BEGIN:VCALENDAR
VERSION:2.0
PRODID:-//wp-events-plugin.com//7.2.3.1//EN
TZID:America/Chicago
X-WR-TIMEZONE:America/Chicago
BEGIN:VEVENT
UID:81@dontspookthehorse.com
DTSTART;TZID=America/Chicago:20260902T170000
DTEND;TZID=America/Chicago:20260902T200000
DTSTAMP:20260320T031601Z
URL:https://dontspookthehorse.com/shows/dont-spook-the-horse-at-octopi-bre
 wing-6/
SUMMARY:Don't Spook the Horse at Octopi Brewing
DESCRIPTION:Happy to be coming back to Octopi in Waunakee! The venue\, drin
 k\, food\, and staff are all top-notch.\n\nAs this will be an outdoor even
 t\, if the weather looks uncooperative please check back here or with the 
 venue for updates before traveling.\n\ndrinkoctopi.com\nfacebook.com/Drink
 Octopi
ATTACH;FMTTYPE=image/jpeg:https://dontspookthehorse.com/wp-content/uploads
 /AB-Breweries-Octopi-Brewing-Exterior-1-Banner.webp
LOCATION:Octopi Brewing\, 1131 Uniek Dr\, Waunakee\, WI\, 53597-8947\, Unit
 ed States
X-APPLE-STRUCTURED-LOCATION;VALUE=URI;X-ADDRESS=1131 Uniek Dr\, Waunakee\, 
 WI\, 53597-8947\, United States;X-APPLE-RADIUS=100;X-TITLE=Octopi Brewing:
 geo:0,0
END:VEVENT
BEGIN:VTIMEZONE
TZID:America/Chicago
X-LIC-LOCATION:America/Chicago
BEGIN:DAYLIGHT
DTSTART:20260308T030000
TZOFFSETFROM:-0600
TZOFFSETTO:-0500
TZNAME:CDT
END:DAYLIGHT
END:VTIMEZONE
END:VCALENDAR