BEGIN:VCALENDAR
VERSION:2.0
PRODID:-//wp-events-plugin.com//7.2.3.1//EN
TZID:America/Chicago
X-WR-TIMEZONE:America/Chicago
BEGIN:VEVENT
UID:14@dontspookthehorse.com
DTSTART;TZID=America/Chicago:20220430T193000
DTEND;TZID=America/Chicago:20220430T213000
DTSTAMP:20220323T040920Z
URL:https://dontspookthehorse.com/shows/dont-spook-the-horse-at-the-grumpy
 -troll-brew-pub/
SUMMARY:Don't Spook the Horse at the Grumpy Troll Brew Pub
DESCRIPTION:Heading back into Viking territory! Join us at our first appear
 ance at the Grumpy Troll in Mount Horeb.\n\nthegrumpytroll.com\nwww.facebo
 ok.com/grumpytrollbrew
LOCATION:Grumpy Troll Brew Pub\, 105 S 2nd St\, Mount Horeb\, WI\, 53572\, 
 United States
X-APPLE-STRUCTURED-LOCATION;VALUE=URI;X-ADDRESS=105 S 2nd St\, Mount Horeb\
 , WI\, 53572\, United States;X-APPLE-RADIUS=100;X-TITLE=Grumpy Troll Brew 
 Pub:geo:0,0
END:VEVENT
BEGIN:VTIMEZONE
TZID:America/Chicago
X-LIC-LOCATION:America/Chicago
BEGIN:DAYLIGHT
DTSTART:20220313T030000
TZOFFSETFROM:-0600
TZOFFSETTO:-0500
TZNAME:CDT
END:DAYLIGHT
END:VTIMEZONE
END:VCALENDAR