BEGIN:VCALENDAR
VERSION:2.0
PRODID:-//wp-events-plugin.com//7.2.3.1//EN
TZID:America/Chicago
X-WR-TIMEZONE:America/Chicago
BEGIN:VEVENT
UID:7@dontspookthehorse.com
DTSTART;TZID=America/Chicago:20210901T190000
DTEND;TZID=America/Chicago:20210901T190000
DTSTAMP:20221116T044744Z
URL:https://dontspookthehorse.com/shows/dont-spook-the-horse-at-the-harmon
 y-bar-grill/
SUMMARY:Don't Spook the Horse at the Harmony & Grill
DESCRIPTION:We're pleased as punch to be back on the legendary Harmony stag
 e on the east side of Madison. (No actual punching allowed.)
LOCATION:Harmony Bar & Grill\, 2201 Atwood Ave \, Madison\, WI\, 53704\, Un
 ited States
X-APPLE-STRUCTURED-LOCATION;VALUE=URI;X-ADDRESS=2201 Atwood Ave \, Madison\
 , WI\, 53704\, United States;X-APPLE-RADIUS=100;X-TITLE=Harmony Bar & Gril
 l:geo:0,0
END:VEVENT
BEGIN:VTIMEZONE
TZID:America/Chicago
X-LIC-LOCATION:America/Chicago
BEGIN:DAYLIGHT
DTSTART:20210314T030000
TZOFFSETFROM:-0600
TZOFFSETTO:-0500
TZNAME:CDT
END:DAYLIGHT
END:VTIMEZONE
END:VCALENDAR