BEGIN:VCALENDAR
VERSION:2.0
PRODID:-//wp-events-plugin.com//7.2.3.1//EN
TZID:America/Chicago
X-WR-TIMEZONE:America/Chicago
BEGIN:VEVENT
UID:25@dontspookthehorse.com
DTSTART;TZID=America/Chicago:20221129T183000
DTEND;TZID=America/Chicago:20221129T183000
DTSTAMP:20221116T052202Z
URL:https://dontspookthehorse.com/shows/dont-spook-the-horse-at-the-red-ro
 oster-3/
SUMMARY:Don't Spook the Horse at the Red Rooster
DESCRIPTION:Back at the Rooster! Great stage\, sound\, food\, drink\, staff
 ... what more do you need?\n\nredroostermadison.com
LOCATION:Red Rooster\, 2513 Seiferth Rd\, Madison\, WI\, 53716\, United Sta
 tes
X-APPLE-STRUCTURED-LOCATION;VALUE=URI;X-ADDRESS=2513 Seiferth Rd\, Madison\
 , WI\, 53716\, United States;X-APPLE-RADIUS=100;X-TITLE=Red Rooster:geo:0,
 0
END:VEVENT
BEGIN:VTIMEZONE
TZID:America/Chicago
X-LIC-LOCATION:America/Chicago
BEGIN:STANDARD
DTSTART:20221106T010000
TZOFFSETFROM:-0500
TZOFFSETTO:-0600
TZNAME:CST
END:STANDARD
END:VTIMEZONE
END:VCALENDAR